BEGIN:VCALENDAR
VERSION:2.0
PRODID:-//Secwepemc Child &amp; Family Services - ECPv6.15.20//NONSGML v1.0//EN
CALSCALE:GREGORIAN
METHOD:PUBLISH
X-WR-CALNAME:Secwepemc Child &amp; Family Services
X-ORIGINAL-URL:https://secwepemcfamilies.org
X-WR-CALDESC:Events for Secwepemc Child &amp; Family Services
REFRESH-INTERVAL;VALUE=DURATION:PT1H
X-Robots-Tag:noindex
X-PUBLISHED-TTL:PT1H
BEGIN:VTIMEZONE
TZID:UTC
BEGIN:STANDARD
TZOFFSETFROM:+0000
TZOFFSETTO:+0000
TZNAME:UTC
DTSTART:20170101T000000
END:STANDARD
END:VTIMEZONE
BEGIN:VEVENT
DTSTART;TZID=UTC:20180802T140000
DTEND;TZID=UTC:20180802T153000
DTSTAMP:20260420T074136
CREATED:20180704T014749Z
LAST-MODIFIED:20180704T020412Z
UID:570-1533218400-1533223800@secwepemcfamilies.org
SUMMARY:Girls Group (8-11 years old)
DESCRIPTION:The girls group will take place at the Secwépemc Child & Family Services office\, located at 300 Chilcotin Rd. This group consists of participant lead topics\, such as self esteem\, bullying\, emotional regulation\, and body boundaries. \nParticipation is reserved for families connected to Wellness Team Services. For more information you may contact nicole.cahoose@secwepemcfamilies.org.
URL:https://secwepemcfamilies.org/event/girls-group-8-11-years-old-3/
END:VEVENT
BEGIN:VEVENT
DTSTART;TZID=UTC:20180801T100000
DTEND;TZID=UTC:20180801T120000
DTSTAMP:20260420T074136
CREATED:20180704T021802Z
LAST-MODIFIED:20180704T021802Z
UID:606-1533117600-1533124800@secwepemcfamilies.org
SUMMARY:Parent/Child Playgroup
DESCRIPTION:This is an open group for parents and their children up to age 5 or school entry. Snacks are provided.
URL:https://secwepemcfamilies.org/event/parent-child-playgroup-5/
END:VEVENT
BEGIN:VEVENT
DTSTART;TZID=UTC:20180731T140000
DTEND;TZID=UTC:20180731T153000
DTSTAMP:20260420T074136
CREATED:20180704T021159Z
LAST-MODIFIED:20180704T021159Z
UID:595-1533045600-1533051000@secwepemcfamilies.org
SUMMARY:Girls Group (12-14 years old)
DESCRIPTION:This girls group will take place at the Secwépemc Child & Family Services office\, located at 300 Chilcotin Rd. Youth led topic discussions may include body changes\, peer pressure\, self esteem\, emotions\, and dealing with bullies. \nParticipation is reserved for families connected to Wellness Team Services. For more information\, you may contact nicole.cahoose@secwepemcfamilies.org.
URL:https://secwepemcfamilies.org/event/girls-group-12-14-years-old-3/
END:VEVENT
BEGIN:VEVENT
DTSTART;TZID=UTC:20180725T100000
DTEND;TZID=UTC:20180725T120000
DTSTAMP:20260420T074136
CREATED:20180704T021651Z
LAST-MODIFIED:20180704T021733Z
UID:603-1532512800-1532520000@secwepemcfamilies.org
SUMMARY:Parent/Child Playgroup
DESCRIPTION:This is an open group for parents and their children up to age 5 or school entry. Snacks are provided.
URL:https://secwepemcfamilies.org/event/parent-child-playgroup-4/
END:VEVENT
BEGIN:VEVENT
DTSTART;TZID=UTC:20180719T140000
DTEND;TZID=UTC:20180719T153000
DTSTAMP:20260420T074136
CREATED:20180704T014714Z
LAST-MODIFIED:20180704T020426Z
UID:568-1532008800-1532014200@secwepemcfamilies.org
SUMMARY:Girls Group (8-11 years old)
DESCRIPTION:The girls group will take place at the Secwépemc Child & Family Services office\, located at 300 Chilcotin Rd. This group consists of participant lead topics\, such as self esteem\, bullying\, emotional regulation\, and body boundaries. \nParticipation is reserved for families connected to Wellness Team Services. For more information you may contact nicole.cahoose@secwepemcfamilies.org.
URL:https://secwepemcfamilies.org/event/girls-group-8-11-years-old-2/
END:VEVENT
BEGIN:VEVENT
DTSTART;TZID=UTC:20180718T100000
DTEND;TZID=UTC:20180718T120000
DTSTAMP:20260420T074136
CREATED:20180704T020141Z
LAST-MODIFIED:20180704T021545Z
UID:583-1531908000-1531915200@secwepemcfamilies.org
SUMMARY:Parent/Child Playgroup
DESCRIPTION:This is an open group for parents and their children up to age 5 or school entry. Snacks are provided.
URL:https://secwepemcfamilies.org/event/parent-child-playgroup-3/
END:VEVENT
BEGIN:VEVENT
DTSTART;TZID=UTC:20180717T140000
DTEND;TZID=UTC:20180717T153000
DTSTAMP:20260420T074136
CREATED:20180704T021127Z
LAST-MODIFIED:20180704T021127Z
UID:593-1531836000-1531841400@secwepemcfamilies.org
SUMMARY:Girls Group (12-14 years old)
DESCRIPTION:This girls group will take place at the Secwépemc Child & Family Services office\, located at 300 Chilcotin Rd. Youth led topic discussions may include body changes\, peer pressure\, self esteem\, emotions\, and dealing with bullies. \nParticipation is reserved for families connected to Wellness Team Services. For more information\, you may contact nicole.cahoose@secwepemcfamilies.org.
URL:https://secwepemcfamilies.org/event/girls-group-12-14-years-old-2/
END:VEVENT
BEGIN:VEVENT
DTSTART;TZID=UTC:20180711T100000
DTEND;TZID=UTC:20180711T120000
DTSTAMP:20260420T074136
CREATED:20180704T015442Z
LAST-MODIFIED:20180704T020101Z
UID:578-1531303200-1531310400@secwepemcfamilies.org
SUMMARY:Parent/Child Playgroup
DESCRIPTION:This is an open group for parents and their children up to age 5 or school entry. Snacks are provided.
URL:https://secwepemcfamilies.org/event/parent-child-playgroup-2/
END:VEVENT
BEGIN:VEVENT
DTSTART;TZID=UTC:20180705T140000
DTEND;TZID=UTC:20180705T153000
DTSTAMP:20260420T074136
CREATED:20180704T014408Z
LAST-MODIFIED:20180704T020451Z
UID:565-1530799200-1530804600@secwepemcfamilies.org
SUMMARY:Girls Group (8-11 years old)
DESCRIPTION:The girls group will take place at the Secwépemc Child & Family Services office at 300 Chilcotin Rd. The group consists of participant lead topics\, such as self esteem\, bullying\, emotional regulation and body boundaries. \nParticipation is reserved for families connected to Wellness Team Services. For more information you may contact nicole.cahoose@secwepemcfamilies.org.
URL:https://secwepemcfamilies.org/event/girls-group-8-11-years-old/
END:VEVENT
BEGIN:VEVENT
DTSTART;TZID=UTC:20180704T100000
DTEND;TZID=UTC:20180704T120000
DTSTAMP:20260420T074136
CREATED:20180704T015354Z
LAST-MODIFIED:20180704T015919Z
UID:576-1530698400-1530705600@secwepemcfamilies.org
SUMMARY:Parent/Child Playgroup
DESCRIPTION:This is an open group for parents and their children up to age 5 or school entry. Snacks are provided.
URL:https://secwepemcfamilies.org/event/parent-child-playgroup/
END:VEVENT
BEGIN:VEVENT
DTSTART;TZID=UTC:20180703T140000
DTEND;TZID=UTC:20180703T153000
DTSTAMP:20260420T074136
CREATED:20180704T021053Z
LAST-MODIFIED:20180704T021053Z
UID:591-1530626400-1530631800@secwepemcfamilies.org
SUMMARY:Girls Group (12-14 years old)
DESCRIPTION:This girls group will take place at the Secwépemc Child & Family Services office\, located at 300 Chilcotin Rd. Youth led topic discussions may include body changes\, peer pressure\, self esteem\, emotions\, and dealing with bullies. \nParticipation is reserved for families connected to Wellness Team Services. For more information\, you may contact nicole.cahoose@secwepemcfamilies.org.
URL:https://secwepemcfamilies.org/event/girls-group-12-14-years-old/
END:VEVENT
END:VCALENDAR